BEGIN:VCALENDAR
METHOD:REQUEST
PRODID:-//github.com/rianjs/ical.net//NONSGML ical.net 4.0//EN
VERSION:2.0
BEGIN:VEVENT
CLASS:PUBLIC
CREATED:20260420T084019
DESCRIPTION:<p>Booth #146</p>
DTEND;TZID=Mountain Standard Time;VALUE=DATE:20260819
DTSTAMP:20260420T154019Z
DTSTART;TZID=Mountain Standard Time;VALUE=DATE:20260817
LOCATION:<p><strong>Rice Eccles Stadium</strong></p>
ORGANIZER;CN=AtlasIED Marketing Team:mailto:marketing@atlasied.com
PRIORITY:5
SEQUENCE:0
SUMMARY:UIAV 2026
TRANSP:TRANSPARENT
UID:785bb23a-a89d-4966-a6f0-0261e5429a24
BEGIN:VALARM
ACTION:DISPLAY
SUMMARY:One day until UIAV 2026
TRIGGER:-P1D
END:VALARM
END:VEVENT
END:VCALENDAR
