BEGIN:VCALENDAR
METHOD:REQUEST
PRODID:-//github.com/rianjs/ical.net//NONSGML ical.net 4.0//EN
VERSION:2.0
BEGIN:VEVENT
CLASS:PUBLIC
CREATED:20260420T084105
DTEND;TZID=Pacific Standard Time;VALUE=DATE:20260604
DTSTAMP:20260420T154105Z
DTSTART;TZID=Pacific Standard Time;VALUE=DATE:20260531
LOCATION:<p><strong>Mandalay Bay&nbsp\;Convention Center</strong></p>\n<p>
 </p>
ORGANIZER;CN=AtlasIED Marketing Team:mailto:marketing@atlasied.com
PRIORITY:5
SEQUENCE:0
SUMMARY:Cisco Live! 2026
TRANSP:TRANSPARENT
UID:16bbc14e-1628-4b4b-b833-4ef586aa32b3
BEGIN:VALARM
ACTION:DISPLAY
SUMMARY:One day until Cisco Live! 2026
TRIGGER:-P1D
END:VALARM
END:VEVENT
END:VCALENDAR
